BEGIN:VCALENDAR
VERSION:2.0
PRODID:-//Plone.org//NONSGML plone.app.event//EN
X-WR-TIMEZONE:US/Central
BEGIN:VEVENT
SUMMARY:Comanche Public Library Foundation Building Project Sneak Peek
DTSTART;TZID=US/Central:20260328T100000
DTEND;TZID=US/Central:20260328T160000
DTSTAMP:20260425T142531Z
UID:421d175b5af740169b8e1e93063afd40@saas_stack_varnish:6080
CONTACT:Angie Evans\, 3253562122\, CPLsocial@comanchepubliclibrary.onmicro
 soft.com
CREATED:20260310T152916Z
LAST-MODIFIED:20260310T152924Z
LOCATION:508 E. Central Ave. Comanche\, Texas 76442
URL:https://www.comanchepubliclibrary.org/news-events-1/lib-cal/comanche-p
 ublic-library-foundation-building-project-sneak-peek
END:VEVENT
BEGIN:VTIMEZONE
TZID:US/Central
X-LIC-LOCATION:US/Central
BEGIN:DAYLIGHT
DTSTART:20260308T030000
TZNAME:CDT
TZOFFSETFROM:-0600
TZOFFSETTO:-0500
END:DAYLIGHT
END:VTIMEZONE
END:VCALENDAR
